BEGIN:VCALENDAR
VERSION:2.0
PRODID:-//WILPF - ECPv6.15.20//NONSGML v1.0//EN
CALSCALE:GREGORIAN
METHOD:PUBLISH
X-WR-CALNAME:WILPF
X-ORIGINAL-URL:https://www.wilpf.org
X-WR-CALDESC:Events for WILPF
REFRESH-INTERVAL;VALUE=DURATION:PT1H
X-Robots-Tag:noindex
X-PUBLISHED-TTL:PT1H
BEGIN:VTIMEZONE
TZID:Europe/Rome
BEGIN:DAYLIGHT
TZOFFSETFROM:+0100
TZOFFSETTO:+0200
TZNAME:CEST
DTSTART:20180325T010000
END:DAYLIGHT
BEGIN:STANDARD
TZOFFSETFROM:+0200
TZOFFSETTO:+0100
TZNAME:CET
DTSTART:20181028T010000
END:STANDARD
BEGIN:DAYLIGHT
TZOFFSETFROM:+0100
TZOFFSETTO:+0200
TZNAME:CEST
DTSTART:20190331T010000
END:DAYLIGHT
BEGIN:STANDARD
TZOFFSETFROM:+0200
TZOFFSETTO:+0100
TZNAME:CET
DTSTART:20191027T010000
END:STANDARD
BEGIN:DAYLIGHT
TZOFFSETFROM:+0100
TZOFFSETTO:+0200
TZNAME:CEST
DTSTART:20200329T010000
END:DAYLIGHT
BEGIN:STANDARD
TZOFFSETFROM:+0200
TZOFFSETTO:+0100
TZNAME:CET
DTSTART:20201025T010000
END:STANDARD
END:VTIMEZONE
BEGIN:VEVENT
DTSTART;TZID=Europe/Rome:20191010T090000
DTEND;TZID=Europe/Rome:20191010T170000
DTSTAMP:20260423T214040
CREATED:20190906T154747Z
LAST-MODIFIED:20230921T101525Z
UID:10000095-1570698000-1570726800@www.wilpf.org
SUMMARY:The Imagine Forum: Women for Peace
DESCRIPTION:Details to come later.
URL:https://www.wilpf.org/calendar/the-imagine-forum-women-for-peace/
ATTACH;FMTTYPE=image/jpeg:https://www.wilpf.org/wp-content/uploads/2019/05/default-for-Picture-for-Events.jpg
END:VEVENT
END:VCALENDAR