BEGIN:VCALENDAR
VERSION:2.0
PRODID:-//WILPF - ECPv6.15.20//NONSGML v1.0//EN
CALSCALE:GREGORIAN
METHOD:PUBLISH
X-ORIGINAL-URL:https://www.wilpf.org
X-WR-CALDESC:Events for WILPF
REFRESH-INTERVAL;VALUE=DURATION:PT1H
X-Robots-Tag:noindex
X-PUBLISHED-TTL:PT1H
BEGIN:VTIMEZONE
TZID:Europe/Rome
BEGIN:DAYLIGHT
TZOFFSETFROM:+0100
TZOFFSETTO:+0200
TZNAME:CEST
DTSTART:20210328T010000
END:DAYLIGHT
BEGIN:STANDARD
TZOFFSETFROM:+0200
TZOFFSETTO:+0100
TZNAME:CET
DTSTART:20211031T010000
END:STANDARD
BEGIN:DAYLIGHT
TZOFFSETFROM:+0100
TZOFFSETTO:+0200
TZNAME:CEST
DTSTART:20220327T010000
END:DAYLIGHT
BEGIN:STANDARD
TZOFFSETFROM:+0200
TZOFFSETTO:+0100
TZNAME:CET
DTSTART:20221030T010000
END:STANDARD
BEGIN:DAYLIGHT
TZOFFSETFROM:+0100
TZOFFSETTO:+0200
TZNAME:CEST
DTSTART:20230326T010000
END:DAYLIGHT
BEGIN:STANDARD
TZOFFSETFROM:+0200
TZOFFSETTO:+0100
TZNAME:CET
DTSTART:20231029T010000
END:STANDARD
END:VTIMEZONE
BEGIN:VEVENT
DTSTART;TZID=Europe/Rome:20221021T090000
DTEND;TZID=Europe/Rome:20221021T110000
DTSTAMP:20260423T214315
CREATED:20221017T145907Z
LAST-MODIFIED:20230928T090340Z
UID:10000137-1666342800-1666350000@www.wilpf.org
SUMMARY:Las mujeres avanzamos y seguimos en el camino de la paz: Side event to commemorate the 22nd anniversary of UNSCR 1325
DESCRIPTION:This event will reflect on the past\, present\, and future of the Women\, Peace and Security Agenda in Colombia\, including the opportunities and challenges for developing a 1325 National Action Plan as well as the gaps in the implementation of the Final Agreement between the government and the FARC-EP.  \n\n\n\nThe newly-elected Colombian government has announced that it will be convening consultations with women’s movement leaders to develop a 1325 National Action Plan. Women leaders have been calling for government-wide implementation of the WPS agenda in order to address the different issues and conflicts facing the country\, including those outside of the scope of the Final Agreement.  \n\n\n\nWith this backdrop\, panelists will discuss how a National Action Plan\, if grounded in an intersectional feminist understanding of human security\, could present an opportunity to holistically address these intersecting challenges. In addition\, they will present locally-rooted analysis on the concrete barriers to implementation of the gender provisions of the peace agreement and the reincorporation process.  \n\n\n\nThis event is co-hosted by WILPF’s National Section\, LIMPAL Colombia\, which has been working for feminist peace in the country for over 20 years\, and WILPF’s Women\, Peace and Security Programme\, based in New York. \n\n\n\nPanelists include:\n\n\n\nDiana Salcedo López – Director of WILPF in Colombia\, and national representative of the Special Instance on Gender in follow-up to the implementation of the peace agreement.  \n\n\n\nNatalia Chaves Monroy – Coordinator of the Women\, Peace and Security Program in the WILPF section in Colombia\, and coordinator of the follow-up report to the peace agreement.  \n\n\n\nManuela Marín – Signatory of the peace agreement\, representative in the Commission for the Follow-up\, Promotion and Verification of the Implementation of the Final Agreement. \n\n\n\n\nhttps://us02web.zoom.us/meeting/register/tZAofuChrz4uH9B2enyG634zYd0NQOrVKm1G
URL:https://www.wilpf.org/calendar/las-mujeres-avanzamos-y-seguimos-en-el-camino-de-la-paz-side-event-to-commemorate-the-22nd-anniversary-of-unscr-1325/
LOCATION:Online
ATTACH;FMTTYPE=image/png:https://www.wilpf.org/wp-content/uploads/2022/10/Las-mujeres-avanzamos-y-seguimos-en-el-camino-de-la-paz.png
END:VEVENT
BEGIN:VEVENT
DTSTART;TZID=Europe/Rome:20220316T000000
DTEND;TZID=Europe/Rome:20220316T010000
DTSTAMP:20260423T214315
CREATED:20220315T131921Z
LAST-MODIFIED:20230921T101446Z
UID:10000123-1647388800-1647392400@www.wilpf.org
SUMMARY:Retos y oportunidades de Mujeres colombianas en la implementación del Acuerdo de Paz: Una reflexión desde sus agendas Feministas de paz\, la crisis climática y medio ambiente
DESCRIPTION:Register here – https://docs.google.com/forms/d/e/1FAIpQLScTDARqwmo1ud0rtC1AohrF-rWMKViyrsVhxWo3yMiNa61SIg/viewform
URL:https://www.wilpf.org/calendar/retos-y-oportunidades-de-mujeres-colombianas-en-la-implementacion-del-acuerdo-de-paz-una-reflexion-desde-sus-agendas-feministas-de-paz-la-crisis-climatica-y-medio-ambiente/
END:VEVENT
END:VCALENDAR