BEGIN:VCALENDAR
VERSION:2.0
PRODID:-//WILPF - ECPv6.15.20//NONSGML v1.0//EN
CALSCALE:GREGORIAN
METHOD:PUBLISH
X-WR-CALNAME:WILPF
X-ORIGINAL-URL:https://www.wilpf.org
X-WR-CALDESC:Events for WILPF
REFRESH-INTERVAL;VALUE=DURATION:PT1H
X-Robots-Tag:noindex
X-PUBLISHED-TTL:PT1H
BEGIN:VTIMEZONE
TZID:Europe/Rome
BEGIN:DAYLIGHT
TZOFFSETFROM:+0100
TZOFFSETTO:+0200
TZNAME:CEST
DTSTART:20210328T010000
END:DAYLIGHT
BEGIN:STANDARD
TZOFFSETFROM:+0200
TZOFFSETTO:+0100
TZNAME:CET
DTSTART:20211031T010000
END:STANDARD
BEGIN:DAYLIGHT
TZOFFSETFROM:+0100
TZOFFSETTO:+0200
TZNAME:CEST
DTSTART:20220327T010000
END:DAYLIGHT
BEGIN:STANDARD
TZOFFSETFROM:+0200
TZOFFSETTO:+0100
TZNAME:CET
DTSTART:20221030T010000
END:STANDARD
BEGIN:DAYLIGHT
TZOFFSETFROM:+0100
TZOFFSETTO:+0200
TZNAME:CEST
DTSTART:20230326T010000
END:DAYLIGHT
BEGIN:STANDARD
TZOFFSETFROM:+0200
TZOFFSETTO:+0100
TZNAME:CET
DTSTART:20231029T010000
END:STANDARD
END:VTIMEZONE
BEGIN:VEVENT
DTSTART;TZID=Europe/Rome:20221027T190000
DTEND;TZID=Europe/Rome:20221027T203000
DTSTAMP:20260424T041523
CREATED:20221020T145831Z
LAST-MODIFIED:20230928T090856Z
UID:10000138-1666897200-1666902600@www.wilpf.org
SUMMARY:A Climate of Insecurity for COP27–The Impact of the Climate Crisis on Women\, Peace\, and Security in the MENA Region
DESCRIPTION:**L’interprétation sera disponible en français**** الترجمة ستكون متاحة باللغة العربية** \n\n\n\nJoin us in our last webinar in the series “A Climate of Insecurity for COP27” on Thursday\, 27 October at 7PM CEST\, where we will shed light on the myriad impacts of the climate crisis in the MENA region. Speakers will illuminate different impacts of the climate crisis on women under militarised regimes and in conflict areas\, and they will sketch out grassroots solutions\, and share their key demands for COP27 and beyond. \n\n\n\nBackground:\n\n\n\nThe MENA region is among the most vulnerable places in the world to climate change. The devastating toll that climate change has on the region isn’t only influencing water supplies and food production systems\, but will also heighten insecurity\, complicate existing conflicts\, and create breeding grounds for violent extremism. As climate change is widely and increasingly recognised to contribute to heightened fragility\, women in the MENA region are especially vulnerable to its impacts. Women in the region already suffer major human rights violations under authoritarian regimes\, as well as in conflict zones where they are disproportionately impacted by insecurity\, displacement\, poverty\, and sexual violence.  \n\n\n\nThe climate crisis is further exacerbating and complicating these impacts\, and is creating a fertile ground for the emergence of further conflicts. This means women at the grassroots in the region – being those most affected – are uniquely positioned to contribute to sustainable natural resource management\, climate-resilient communities\, and enhanced peace and stability. For policymakers and practitioners\, promoting women’s contributions can accelerate gains across peace\, conservation\, and sustainability. \n\n\n\nModerator: Salma Kahale\, WILPF MENA Director \n\n\n\nOpening remarks: Hanan Awwad\, MENA Representative and President of WILPF Palestine \n\n\n\nPanelists:– Nouha Ghosseini\, President\, WILPF Lebanon– Rula Assad\, Syrian Female Journalist Network– Shirine Al Jurdi\, WILPF Lebanon– Dr. Nadia Al Sakkaf: Independent Yemeni researcher and Director of Research at Arabia Brain Trust \n\n\n\nRegister:  \n\n\n\nمناخ من انعدام الأمن تحضيراً لمؤتمر الأمم المتحدة المعني بتغيّر المناخ (COP 27): تأثير أزمة المناخ على النساء والسلام والأمن \n\n\n\nفي منطقة الشرق الأوسط وشمال إفريقيا \n\n\n\nانضم/ي إلينا في الويبينار الأخير في سلسلة “مناخ من انعدام الأمن تحضيراً لمؤتمر الأمم المتحدة المعني بتغير المناخ (COP 27)” يوم الخميس ٢٧ أكتوبر في تمام الساعة ٧ مساءً بتوقيت وسط أوروبا الصيفي، حيث سنسلط الضوء على الآثار العديدة لأزمة المناخ في منطقة الشرق الأوسط وشمال إفريقيا. سوف تتناول المتحدثات التأثيرات المختلفة لأزمة المناخ على النساء في ظل الأنظمة العسكرية وفي مناطق النزاع، وسوف تناقشن الحلول على المستوى القاعدي وتشاركن مطالبهن الرئيسية لمؤتمر COP27 وما بعده.  \n\n\n\nخلفية: \n\n\n\nتعد منطقة الشرق الأوسط وشمال إفريقيا من أكثر الأماكن عرضة لتغيّر المناخ في العالم. إن الخسائر المدمرة التي يُلحقها تغيّر المناخ بالمنطقة لا تؤثر فقط على إمدادات المياه وأنظمة إنتاج الغذاء، ولكنها ستزيد أيضاً من انعدام الأمن وتعقيد الصراعات القائمة وتخلق أرضاً خصبة للتطرف العنيف. \n\n\n\n نظرا لأن تغيّر المناخ معروف على نطاق واسع ومتزايد بأنه يساهم في زيادة الهشاشة في المجتمعات، فإن النساء في منطقة الشرق الأوسط وشمال إفريقيا معرضات بشكل خاص لأثاره . تعاني النساء في المنطقة من انتهاكات جسيمة لحقوق الإنسان في ظل الأنظمة الاستبدادية، وكذلك في مناطق الصراع حيث يتأثرن بشكل غير متناسب بانعدام الأمن والنزوح  والفقر والعنف الجنسي. \n\n\n\nتزيد أزمة المناخ من تفاقم هذه الآثار وتعقيدها، وتخلق أرضاً خصبة لظهور المزيد من الصراعات. وهذا يعني أن النساء على مستوى القاعدة الشعبية في المنطقة – كونهن الأكثر تضرراً – في وضع فريد للمساهمة في الإدارة المستدامة للموارد الطبيعية، والمجتمعات الصامدة بوجه تغيّر المناخ، وتعزيز السلام والاستقرار. بالنسبة لواضعي السياسات والمنفذين/ات لها، يمكن أن يؤدي تعزيز مساهمات المرأة إلى تعجيل المكاسب فيما يخص السلام والحفاظ على البيئة والاستدامة. \n\n\n\nتدير الجلسة سلمى كحالة – مديرة برنامج الشرق الأوسط وشمال إفريقيا برابطة النساء الدولية للسلام والحرية \n\n\n\nالكلمة الافتتاحية: حنان عواد، ممثلة منطقة الشرق الأوسط وشمال أفريقيا برابطة النساء الدولية للسلام والحرية ورئيسة فرع فلسطين \n\n\n\nالمتحدثات: \n\n\n\n– نهى غصين – رئيسة فرع رابطة النساء الدولية للسلام والحرية بلبنان \n\n\n\n– رولا أسد – شبكة الصحفيات السوريات \n\n\n\n– شيرين الجردي – فرع رابطة النساء الدولية للسلام والحرية بلبنان \n\n\n\n– نادية السقاف – باحثة يمنية مستقلة ومديرة للبحوث في مركز عربيا برين ترست الفكري الاقتصادي \n\n\n\nللتسجيل:
URL:https://www.wilpf.org/calendar/a-climate-of-insecurity-for-cop27-the-impact-of-the-climate-crisis-on-women-peace-and-security-in-the-mena-region/
LOCATION:Online
ATTACH;FMTTYPE=image/png:https://www.wilpf.org/wp-content/uploads/2022/10/Copy-of-a-climate-of-insecurity.png
END:VEVENT
END:VCALENDAR