BEGIN:VCALENDAR
VERSION:2.0
PRODID:-//WILPF - ECPv6.15.20//NONSGML v1.0//EN
CALSCALE:GREGORIAN
METHOD:PUBLISH
X-WR-CALNAME:WILPF
X-ORIGINAL-URL:https://www.wilpf.org
X-WR-CALDESC:Events for WILPF
REFRESH-INTERVAL;VALUE=DURATION:PT1H
X-Robots-Tag:noindex
X-PUBLISHED-TTL:PT1H
BEGIN:VTIMEZONE
TZID:Australia/Sydney
BEGIN:STANDARD
TZOFFSETFROM:+1100
TZOFFSETTO:+1000
TZNAME:AEST
DTSTART:20170401T160000
END:STANDARD
BEGIN:DAYLIGHT
TZOFFSETFROM:+1000
TZOFFSETTO:+1100
TZNAME:AEDT
DTSTART:20170930T160000
END:DAYLIGHT
BEGIN:STANDARD
TZOFFSETFROM:+1100
TZOFFSETTO:+1000
TZNAME:AEST
DTSTART:20180331T160000
END:STANDARD
BEGIN:DAYLIGHT
TZOFFSETFROM:+1000
TZOFFSETTO:+1100
TZNAME:AEDT
DTSTART:20181006T160000
END:DAYLIGHT
BEGIN:STANDARD
TZOFFSETFROM:+1100
TZOFFSETTO:+1000
TZNAME:AEST
DTSTART:20190406T160000
END:STANDARD
BEGIN:DAYLIGHT
TZOFFSETFROM:+1000
TZOFFSETTO:+1100
TZNAME:AEDT
DTSTART:20191005T160000
END:DAYLIGHT
END:VTIMEZONE
BEGIN:VEVENT
DTSTART;TZID=Australia/Sydney:20180505T080000
DTEND;TZID=Australia/Sydney:20180506T160000
DTSTAMP:20260420T163215
CREATED:20180505T124131Z
LAST-MODIFIED:20230921T101622Z
UID:10000039-1525507200-1525622400@www.wilpf.org
SUMMARY:WILPF Australia 2018 Triennial Conference
DESCRIPTION:Under the title “Building a Feminist Peace Movement”\, WILPF Australia is calling WILPF sisters from across the country to attend this once-every-three-years event: \n“Join us to co-create this DYNAMIC space where we STRENGTHEN our community and the voices of women peacemakers; CELEBRATE our achievements; REVIEW and CONNECT the links between Women\, Peace and Security\, disarmament\, human rights and the environment and their implications for our Section and Region; ESTABLISH a plan for our Section for the next three years; and ACTIVATE NOW to create a world where FEMINIST PEACE IS A REALITY.” \n 
URL:https://www.wilpf.org/calendar/wilpf-australia-2018-triennial-conference/
LOCATION:RFH on Gregory\, 89-95 Gregory Terrace\, Brisbane City\, QLD\, 4000\, Australia
ATTACH;FMTTYPE=image/jpeg:https://www.wilpf.org/wp-content/uploads/2018/05/16.jpg
END:VEVENT
END:VCALENDAR