BEGIN:VCALENDAR
VERSION:2.0
PRODID:-//WILPF - ECPv6.15.20//NONSGML v1.0//EN
CALSCALE:GREGORIAN
METHOD:PUBLISH
X-ORIGINAL-URL:https://www.wilpf.org
X-WR-CALDESC:Events for WILPF
REFRESH-INTERVAL;VALUE=DURATION:PT1H
X-Robots-Tag:noindex
X-PUBLISHED-TTL:PT1H
BEGIN:VTIMEZONE
TZID:Europe/London
BEGIN:DAYLIGHT
TZOFFSETFROM:+0000
TZOFFSETTO:+0100
TZNAME:BST
DTSTART:20170326T010000
END:DAYLIGHT
BEGIN:STANDARD
TZOFFSETFROM:+0100
TZOFFSETTO:+0000
TZNAME:GMT
DTSTART:20171029T010000
END:STANDARD
BEGIN:DAYLIGHT
TZOFFSETFROM:+0000
TZOFFSETTO:+0100
TZNAME:BST
DTSTART:20180325T010000
END:DAYLIGHT
BEGIN:STANDARD
TZOFFSETFROM:+0100
TZOFFSETTO:+0000
TZNAME:GMT
DTSTART:20181028T010000
END:STANDARD
BEGIN:DAYLIGHT
TZOFFSETFROM:+0000
TZOFFSETTO:+0100
TZNAME:BST
DTSTART:20190331T010000
END:DAYLIGHT
BEGIN:STANDARD
TZOFFSETFROM:+0100
TZOFFSETTO:+0000
TZNAME:GMT
DTSTART:20191027T010000
END:STANDARD
END:VTIMEZONE
BEGIN:VEVENT
DTSTART;TZID=Europe/London:20180414T110000
DTEND;TZID=Europe/London:20180414T160000
DTSTAMP:20260421T015855
CREATED:20180414T124428Z
LAST-MODIFIED:20230921T101623Z
UID:10000033-1523703600-1523721600@www.wilpf.org
SUMMARY:WILPF UK ANNUAL GENERAL MEETING 2018
DESCRIPTION:Wonderful Women and WILPF Work  \nMorning Agenda 11.00 – 13.00\n10.30 Registration – Refreshments available\n11.00 Welcome and Arrangements for the Day.\n11.05 Minutes of the 2017 AGM\n11.15 Annual Report and Questions\n11.30 Financial Statement and Questions\n11.45 Resolutions\n12.40 Thanks and Introduction to the 2018 -2019 Executive.\n12.50 Any other Business \nLunch 13 – 14.00 Suggested donation £5 \nAfternoon Agenda 14.00 to 16.00\n• WILPF Congress\n• WILPF Governance\n• WILPF Europe Meetings\n• Feedback from Voices of Refugee Women Seminar\n• Our 2018 Autumn Seminar\n• Global Ban Treaty\n• Maypole Trust Grant\n• Versailles 1919 and These Dangerous Women \n  \nRefreshments available. Entertainment provided. \n 
URL:https://www.wilpf.org/calendar/wilpf-uk-annual-general-meeting-2018/
LOCATION:Tindlemanor\, Tindlemanor\, 52-54 Featherstone Street\, London\, EC1Y 8RT \, United Kingdom
ATTACH;FMTTYPE=image/jpeg:https://www.wilpf.org/wp-content/uploads/2018/01/Picture-for-Events-without-Photos.jpg
END:VEVENT
END:VCALENDAR